BEGIN:VCALENDAR
VERSION:2.0
PRODID:spatie/icalendar-generator
DESCRIPTION:Veranstaltungen von Karlapimpinella
X-WR-CALDESC:Veranstaltungen von Karlapimpinella
REFRESH-INTERVAL;VALUE=DURATION:PT1440M
X-PUBLISHED-TTL:PT1440M
BEGIN:VTIMEZONE
TZID:Europe/Berlin
BEGIN:STANDARD
DTSTART:20191027T030000Z
TZOFFSETFROM:+0200
TZOFFSETTO:+0100
END:STANDARD
BEGIN:DAYLIGHT
DTSTART:20200329T020000Z
TZOFFSETFROM:+0100
TZOFFSETTO:+0200
END:DAYLIGHT
END:VTIMEZONE
BEGIN:VTIMEZONE
TZID:UTC
BEGIN:STANDARD
DTSTART:20250728T154604Z
TZOFFSETFROM:+0000
TZOFFSETTO:+0000
END:STANDARD
END:VTIMEZONE
BEGIN:VEVENT
UID:101-65
DTSTAMP:20260424T154604Z
SUMMARY:Brotbeutel und Gemüsenetze-entfällt!
LOCATION:
ORGANIZER;CN=Connie:MAILTO:connie@karlapimpinella.de
DTSTART;TZID=Europe/Berlin:20200324T150000
DTEND;TZID=Europe/Berlin:20200324T173000
X-ALT-DESC;FMTTYPE=TEXT/HTML:sparen jede Menge Tüten und somit Plastik: Ne
 hmen Sie sich ein bisschen Zeit und schon sind Sie perfekt für den nächs
 ten Einkauf gerüstet:Sicher haben auch Sie alte Blusen\, Hemden oder leic
 hte Vorhänge zu Hause\, aus denen sich prima Beutel für Gemüse und Brot
  nähen lassen. Ansonsten gibts auch jede Menge Auswahl an Altkleidern und
  Stoffen\,&amp;hellip\;
CATEGORIES:Edition Anders
URL;VALUE=URI:https://www.karlapimpinella.de/mc-events/brotbeutel-und-gemue
 senetze-entfaellt/
METHOD:PUBLISH
END:VEVENT
END:VCALENDAR