BEGIN:VCALENDAR
VERSION:2.0
PRODID:spatie/icalendar-generator
DESCRIPTION:Veranstaltungen von Karlapimpinella
X-WR-CALDESC:Veranstaltungen von Karlapimpinella
REFRESH-INTERVAL;VALUE=DURATION:PT1440M
X-PUBLISHED-TTL:PT1440M
BEGIN:VTIMEZONE
TZID:Europe/Berlin
BEGIN:DAYLIGHT
DTSTART:20200329T020000Z
TZOFFSETFROM:+0100
TZOFFSETTO:+0200
END:DAYLIGHT
BEGIN:STANDARD
DTSTART:20201025T030000Z
TZOFFSETFROM:+0200
TZOFFSETTO:+0100
END:STANDARD
BEGIN:DAYLIGHT
DTSTART:20210328T020000Z
TZOFFSETFROM:+0100
TZOFFSETTO:+0200
END:DAYLIGHT
END:VTIMEZONE
BEGIN:VTIMEZONE
TZID:UTC
BEGIN:STANDARD
DTSTART:20250728T234941Z
TZOFFSETFROM:+0000
TZOFFSETTO:+0000
END:STANDARD
END:VTIMEZONE
BEGIN:VEVENT
UID:91-56
DTSTAMP:20260424T234941Z
SUMMARY:Bag in box aus Holz
LOCATION:
ORGANIZER;CN=Connie:MAILTO:connie@karlapimpinella.de
DTSTART;TZID=Europe/Berlin:20201019T193000
DTEND;TZID=Europe/Berlin:20201019T210000
X-ALT-DESC;FMTTYPE=TEXT/HTML:Eine Holzkiste wird in eine schicke Bag in box
  für einen 5l z.B. Apfelsaftbeutel verwandelt. Wer mag\, kann sich auch g
 leich zwei machen und die zweite Box als Vorrat und Unterlage für die eig
 entliche Bag in box verwenden. 15€+ 20€Material pro Box. &amp;nbsp\; &amp;nbsp
 \; &amp;nbsp\;  
CATEGORIES:Edition Anders
URL;VALUE=URI:https://www.karlapimpinella.de/mc-events/bag-in-box-aus-holz/
METHOD:PUBLISH
END:VEVENT
END:VCALENDAR