BEGIN:VCALENDAR
VERSION:2.0
PRODID:spatie/icalendar-generator
DESCRIPTION:Veranstaltungen von Karlapimpinella
X-WR-CALDESC:Veranstaltungen von Karlapimpinella
REFRESH-INTERVAL;VALUE=DURATION:PT1440M
X-PUBLISHED-TTL:PT1440M
BEGIN:VTIMEZONE
TZID:Europe/Berlin
BEGIN:STANDARD
DTSTART:20191027T030000Z
TZOFFSETFROM:+0200
TZOFFSETTO:+0100
END:STANDARD
BEGIN:DAYLIGHT
DTSTART:20200329T020000Z
TZOFFSETFROM:+0100
TZOFFSETTO:+0200
END:DAYLIGHT
END:VTIMEZONE
BEGIN:VTIMEZONE
TZID:UTC
BEGIN:STANDARD
DTSTART:20250728T134837Z
TZOFFSETFROM:+0000
TZOFFSETTO:+0000
END:STANDARD
END:VTIMEZONE
BEGIN:VEVENT
UID:92-57
DTSTAMP:20260424T134837Z
SUMMARY:Kosmetikpads aus Stoff
LOCATION:
ORGANIZER;CN=Connie:MAILTO:connie@karlapimpinella.de
DTSTART;TZID=Europe/Berlin:20200210T193000
DTEND;TZID=Europe/Berlin:20200210T213000
X-ALT-DESC;FMTTYPE=TEXT/HTML:Pads aus Watte produzieren jede Menge Müll. D
 ie Pads aus alten Stoffen sind beliebig oft waschbar und schonen die Umwel
 t. In diesem Kurs können Sie sich eine Grundausstattung dieser Pads nähe
 n. Wer hat\, bitte alte T-Shirts( zum Zerschneiden für die Einlage) \, Ha
 ndtücher (für die Reinigungsseite)\, und bunte Stoffe (für die Rücksei
 te) mitbringen. 2h 16€+&amp;hellip\;
CATEGORIES:Edition Anders
URL;VALUE=URI:https://www.karlapimpinella.de/mc-events/kosmetikpads-aus-sto
 ff/
METHOD:PUBLISH
END:VEVENT
END:VCALENDAR