BEGIN:VCALENDAR
VERSION:2.0
PRODID:spatie/icalendar-generator
DESCRIPTION:Veranstaltungen von Karlapimpinella
X-WR-CALDESC:Veranstaltungen von Karlapimpinella
REFRESH-INTERVAL;VALUE=DURATION:PT1440M
X-PUBLISHED-TTL:PT1440M
BEGIN:VTIMEZONE
TZID:Europe/Berlin
BEGIN:DAYLIGHT
DTSTART:20200329T020000Z
TZOFFSETFROM:+0100
TZOFFSETTO:+0200
END:DAYLIGHT
BEGIN:STANDARD
DTSTART:20201025T030000Z
TZOFFSETFROM:+0200
TZOFFSETTO:+0100
END:STANDARD
BEGIN:DAYLIGHT
DTSTART:20210328T020000Z
TZOFFSETFROM:+0100
TZOFFSETTO:+0200
END:DAYLIGHT
END:VTIMEZONE
BEGIN:VTIMEZONE
TZID:UTC
BEGIN:STANDARD
DTSTART:20250728T221816Z
TZOFFSETFROM:+0000
TZOFFSETTO:+0000
END:STANDARD
END:VTIMEZONE
BEGIN:VEVENT
UID:95-60
DTSTAMP:20260424T221816Z
SUMMARY:Stuhlkissen
LOCATION:
ORGANIZER;CN=Connie:MAILTO:connie@karlapimpinella.de
DTSTART;TZID=Europe/Berlin:20200929T140000
DTEND;TZID=Europe/Berlin:20200929T180000
X-ALT-DESC;FMTTYPE=TEXT/HTML:In vier Stunden schaffen wir ein individuelles
 \, wunderbar wärmendes\, weiches Stuhlkissen. Bodybuilding brauchts an di
 esem Tag dann nicht mehr… &amp;nbsp\; &amp;nbsp\; 50€ incl Material  
CATEGORIES:Filzkurse
URL;VALUE=URI:https://www.karlapimpinella.de/mc-events/stuhlkissen-4/
METHOD:PUBLISH
END:VEVENT
END:VCALENDAR