BEGIN:VCALENDAR
VERSION:2.0
PRODID:spatie/icalendar-generator
DESCRIPTION:Veranstaltungen von Karlapimpinella
X-WR-CALDESC:Veranstaltungen von Karlapimpinella
REFRESH-INTERVAL;VALUE=DURATION:PT1440M
X-PUBLISHED-TTL:PT1440M
BEGIN:VTIMEZONE
TZID:Europe/Berlin
BEGIN:STANDARD
DTSTART:20191027T030000Z
TZOFFSETFROM:+0200
TZOFFSETTO:+0100
END:STANDARD
BEGIN:DAYLIGHT
DTSTART:20200329T020000Z
TZOFFSETFROM:+0100
TZOFFSETTO:+0200
END:DAYLIGHT
END:VTIMEZONE
BEGIN:VTIMEZONE
TZID:UTC
BEGIN:STANDARD
DTSTART:20250728T185348Z
TZOFFSETFROM:+0000
TZOFFSETTO:+0000
END:STANDARD
END:VTIMEZONE
BEGIN:VEVENT
UID:102-66
DTSTAMP:20260424T185348Z
SUMMARY:Küchentücher aus Stoff- wisch und weg
LOCATION:
ORGANIZER;CN=Connie:MAILTO:connie@karlapimpinella.de
DTSTART;TZID=Europe/Berlin:20200421T150000
DTEND;TZID=Europe/Berlin:20200421T173000
X-ALT-DESC;FMTTYPE=TEXT/HTML:Küchentücher aus Zellstoff sind so praktisch
 \, machen aber leider auch ganz schön viel Müll! Und verbrauchen in der 
 Herstellung jede Menge Ressourcen und Wasser! Die Küchentücher aus Stoff
  sind aus alten Materialien schnell genäht und immer wieder verwendbar. D
 amit alle gleich sehen\, wofür die Tücher gedacht sind\, bekommen sie no
 ch einen hübschen Stempel. Bitte alte&amp;hellip\;
CATEGORIES:Edition Anders
URL;VALUE=URI:https://www.karlapimpinella.de/mc-events/kuechentuecher-aus-s
 toff-wisch-und-weg/
METHOD:PUBLISH
END:VEVENT
END:VCALENDAR