BEGIN:VCALENDAR
VERSION:2.0
PRODID:spatie/icalendar-generator
DESCRIPTION:Veranstaltungen von Karlapimpinella
X-WR-CALDESC:Veranstaltungen von Karlapimpinella
REFRESH-INTERVAL;VALUE=DURATION:PT1440M
X-PUBLISHED-TTL:PT1440M
BEGIN:VTIMEZONE
TZID:Europe/Berlin
BEGIN:DAYLIGHT
DTSTART:20190331T020000Z
TZOFFSETFROM:+0100
TZOFFSETTO:+0200
END:DAYLIGHT
BEGIN:STANDARD
DTSTART:20191027T030000Z
TZOFFSETFROM:+0200
TZOFFSETTO:+0100
END:STANDARD
BEGIN:DAYLIGHT
DTSTART:20200329T020000Z
TZOFFSETFROM:+0100
TZOFFSETTO:+0200
END:DAYLIGHT
END:VTIMEZONE
BEGIN:VTIMEZONE
TZID:UTC
BEGIN:STANDARD
DTSTART:20250728T102447Z
TZOFFSETFROM:+0000
TZOFFSETTO:+0000
END:STANDARD
END:VTIMEZONE
BEGIN:VEVENT
UID:86-51
DTSTAMP:20260424T102447Z
SUMMARY:Hausschuhe Teil 2
LOCATION:
ORGANIZER;CN=Connie:MAILTO:connie@karlapimpinella.de
DTSTART;TZID=Europe/Berlin:20191016T183000
DTEND;TZID=Europe/Berlin:20191016T210000
X-ALT-DESC;FMTTYPE=TEXT/HTML:Fortsetzung des Hausschuhkurses vom 15.10. Am 
 zweiten Abend werden die Hausschuhe fertig gefilzt\, in Form gebracht  un
 d vielleicht bekommen sie  dann auch noch einen Schmuck an die Seite? Ode
 r eine kleine Stickerei? Oder....einen Knopf? &amp;nbsp\;
CATEGORIES:Filzkurse
URL;VALUE=URI:https://www.karlapimpinella.de/mc-events/hausschuhe-teil-2-3/
METHOD:PUBLISH
END:VEVENT
END:VCALENDAR