BEGIN:VCALENDAR
VERSION:2.0
PRODID:spatie/icalendar-generator
DESCRIPTION:Veranstaltungen von Karlapimpinella
X-WR-CALDESC:Veranstaltungen von Karlapimpinella
REFRESH-INTERVAL;VALUE=DURATION:PT1440M
X-PUBLISHED-TTL:PT1440M
BEGIN:VTIMEZONE
TZID:Europe/Berlin
BEGIN:DAYLIGHT
DTSTART:20190331T020000Z
TZOFFSETFROM:+0100
TZOFFSETTO:+0200
END:DAYLIGHT
BEGIN:STANDARD
DTSTART:20191027T030000Z
TZOFFSETFROM:+0200
TZOFFSETTO:+0100
END:STANDARD
BEGIN:DAYLIGHT
DTSTART:20200329T020000Z
TZOFFSETFROM:+0100
TZOFFSETTO:+0200
END:DAYLIGHT
END:VTIMEZONE
BEGIN:VTIMEZONE
TZID:UTC
BEGIN:STANDARD
DTSTART:20250728T134802Z
TZOFFSETFROM:+0000
TZOFFSETTO:+0000
END:STANDARD
END:VTIMEZONE
BEGIN:VEVENT
UID:87-52
DTSTAMP:20260424T134802Z
SUMMARY:Adventsfilzen
LOCATION:
ORGANIZER;CN=Connie:MAILTO:connie@karlapimpinella.de
DTSTART;TZID=Europe/Berlin:20191203T180000
DTEND;TZID=Europe/Berlin:20191203T203000
X-ALT-DESC;FMTTYPE=TEXT/HTML:Die Adventszeit - was kann man da nicht alles 
 Filzen! Allen voran natürlich die Wichtel und Windlichter\, warme Schuhso
 hlen\, dicke Schals\, Weihnachtsgeschenke??? Buchhüllen\, Schnürsenkel\,
  Schlüsselanhänger\, Untersetzer\, Hausschuhe\, Stulpen\, Taschen\, Scha
 fe\, Girlanden\, Steine\, Decken\, Engel\, einen Sitzsack\, Esel\, Sterne.
 ...schnell ein freies Plätzle sichern und anmelden!
CATEGORIES:Filzkurse
URL;VALUE=URI:https://www.karlapimpinella.de/mc-events/adventsfilzen/
METHOD:PUBLISH
END:VEVENT
END:VCALENDAR