BEGIN:VCALENDAR
VERSION:2.0
PRODID:spatie/icalendar-generator
DESCRIPTION:Veranstaltungen von Karlapimpinella
X-WR-CALDESC:Veranstaltungen von Karlapimpinella
REFRESH-INTERVAL;VALUE=DURATION:PT1440M
X-PUBLISHED-TTL:PT1440M
BEGIN:VTIMEZONE
TZID:Europe/Berlin
BEGIN:STANDARD
DTSTART:20191027T030000Z
TZOFFSETFROM:+0200
TZOFFSETTO:+0100
END:STANDARD
BEGIN:DAYLIGHT
DTSTART:20200329T020000Z
TZOFFSETFROM:+0100
TZOFFSETTO:+0200
END:DAYLIGHT
BEGIN:STANDARD
DTSTART:20201025T030000Z
TZOFFSETFROM:+0200
TZOFFSETTO:+0100
END:STANDARD
END:VTIMEZONE
BEGIN:VTIMEZONE
TZID:UTC
BEGIN:STANDARD
DTSTART:20250728T202905Z
TZOFFSETFROM:+0000
TZOFFSETTO:+0000
END:STANDARD
END:VTIMEZONE
BEGIN:VEVENT
UID:94-59
DTSTAMP:20260424T202905Z
SUMMARY:Slipeinlagen aus Stoff nähen
LOCATION:
ORGANIZER;CN=Connie:MAILTO:connie@karlapimpinella.de
DTSTART;TZID=Europe/Berlin:20200427T190000
DTEND;TZID=Europe/Berlin:20200427T220000
X-ALT-DESC;FMTTYPE=TEXT/HTML:Diese Slipeinlagen vermeiden jede Menge Müll.
  Und sind viel lustiger und schöner!Die Slipeinlagen bestehen aus alten K
 leidungsstücken wie T-Shirts und Hemden. Als Einlage dient ein altes Frot
 teehandtuch . Sie werden einfach an den Flügeln zugeknöpft und schon sit
 zen sie perfekt. Nach Gebrauch kann daraus ein hübsches Päckchen gefalte
 t werden\, bis sie in der Waschmaschine gewaschen&amp;hellip\;
CATEGORIES:Edition Anders
URL;VALUE=URI:https://www.karlapimpinella.de/mc-events/slipeinlagen-aus-sto
 ff-naehen/
METHOD:PUBLISH
END:VEVENT
END:VCALENDAR