BEGIN:VCALENDAR
VERSION:2.0
PRODID:spatie/icalendar-generator
DESCRIPTION:Veranstaltungen von Karlapimpinella
X-WR-CALDESC:Veranstaltungen von Karlapimpinella
REFRESH-INTERVAL;VALUE=DURATION:PT1440M
X-PUBLISHED-TTL:PT1440M
BEGIN:VTIMEZONE
TZID:Europe/Berlin
BEGIN:DAYLIGHT
DTSTART:20200329T020000Z
TZOFFSETFROM:+0100
TZOFFSETTO:+0200
END:DAYLIGHT
BEGIN:STANDARD
DTSTART:20201025T030000Z
TZOFFSETFROM:+0200
TZOFFSETTO:+0100
END:STANDARD
BEGIN:DAYLIGHT
DTSTART:20210328T020000Z
TZOFFSETFROM:+0100
TZOFFSETTO:+0200
END:DAYLIGHT
END:VTIMEZONE
BEGIN:VTIMEZONE
TZID:UTC
BEGIN:STANDARD
DTSTART:20250729T031514Z
TZOFFSETFROM:+0000
TZOFFSETTO:+0000
END:STANDARD
END:VTIMEZONE
BEGIN:VEVENT
UID:99-63
DTSTAMP:20260425T031514Z
SUMMARY:Hausschuhe Teil1
LOCATION:
ORGANIZER;CN=Connie:MAILTO:connie@karlapimpinella.de
DTSTART;TZID=Europe/Berlin:20201103T183000
DTEND;TZID=Europe/Berlin:20201103T213000
X-ALT-DESC;FMTTYPE=TEXT/HTML:Wenn es draußen wieder ungemütlicher wird\, 
 dann braucht der Mensch was Gemütliches an den Füßen. Schön warm und w
 eich sind sie\, die Hausschuhe aus Filz. Und das Workout gibt’s im Kurs 
 gratis dazu! Zwei aufeinanderfolgende Abende für ein Paar Schuhe. 2x3h &amp;n
 bsp\; 60€ für beide Abende incl Material Di\, 3.11. Mi 4.11. 18.30-21.3
 0
CATEGORIES:Filzkurse
URL;VALUE=URI:https://www.karlapimpinella.de/mc-events/hausschuhe-teil1/
METHOD:PUBLISH
END:VEVENT
END:VCALENDAR